############################################################################## ############################################################################## ### ### Running command: ### ### F:\biocbuild\bbs-3.17-bioc\R\bin\R.exe CMD INSTALL ITALICS ### ############################################################################## ############################################################################## * installing to library 'F:/biocbuild/bbs-3.17-bioc/R/library' ERROR: dependencies 'oligo', 'affxparser', 'pd.mapping50k.xba240' are not available for package 'ITALICS' * removing 'F:/biocbuild/bbs-3.17-bioc/R/library/ITALICS'