############################################################################## ############################################################################## ### ### Running command: ### ### chmod a+r ITALICS -R && F:\biocbuild\bbs-3.17-bioc\R\bin\R.exe CMD build --keep-empty-dirs --no-resave-data ITALICS ### ############################################################################## ############################################################################## * checking for file 'ITALICS/DESCRIPTION' ... OK * preparing 'ITALICS': * checking DESCRIPTION meta-information ... OK * installing the package to build vignettes ----------------------------------- ERROR: dependencies 'oligo', 'affxparser', 'pd.mapping50k.xba240' are not available for package 'ITALICS' * removing 'F:/biocbuild/bbs-3.17-bioc-rtools43/tmpdir/RtmpoBg8gM/Rinst1b303c58241f/ITALICS' ----------------------------------- ERROR: package installation failed