Package: HiCDCPlus Version: 1.7.0 Command: chmod a+r HiCDCPlus -R && F:\biocbuild\bbs-3.17-bioc\R\bin\R.exe CMD build --keep-empty-dirs --no-resave-data HiCDCPlus StartedAt: 2022-12-28 18:33:52 -0500 (Wed, 28 Dec 2022) EndedAt: 2022-12-28 18:36:07 -0500 (Wed, 28 Dec 2022) EllapsedTime: 135.8 seconds RetCode: 0 Status: OK PackageFile: HiCDCPlus_1.7.0.tar.gz PackageFileSize: 1.189 MiB