Package: HiCDCPlus Version: 1.7.0 Command: rm -rf HiCDCPlus.buildbin-libdir && mkdir HiCDCPlus.buildbin-libdir && F:\biocbuild\bbs-3.17-bioc\R\bin\R.exe CMD INSTALL --build --library=HiCDCPlus.buildbin-libdir HiCDCPlus_1.7.0.tar.gz StartedAt: 2022-12-29 05:15:31 -0500 (Thu, 29 Dec 2022) EndedAt: 2022-12-29 05:16:29 -0500 (Thu, 29 Dec 2022) EllapsedTime: 57.8 seconds RetCode: 0 Status: OK PackageFile: HiCDCPlus_1.7.0.zip PackageFileSize: 1.764 MiB