Package: HMMcopy Version: 1.41.0 Command: chmod a+r HMMcopy -R && F:\biocbuild\bbs-3.17-bioc\R\bin\R.exe CMD build --keep-empty-dirs --no-resave-data HMMcopy StartedAt: 2022-12-28 18:35:28 -0500 (Wed, 28 Dec 2022) EndedAt: 2022-12-28 18:35:55 -0500 (Wed, 28 Dec 2022) EllapsedTime: 26.8 seconds RetCode: 0 Status: OK PackageFile: HMMcopy_1.41.0.tar.gz PackageFileSize: 1.244 MiB