Package: HIREewas Version: 1.17.0 Command: F:\biocbuild\bbs-3.17-bioc\R\bin\R.exe CMD INSTALL HIREewas StartedAt: 2022-12-28 15:31:13 -0500 (Wed, 28 Dec 2022) EndedAt: 2022-12-28 15:31:33 -0500 (Wed, 28 Dec 2022) EllapsedTime: 20.1 seconds RetCode: 0 Status: OK