Package: GenomicSuperSignature Version: 1.7.0 Command: rm -rf GenomicSuperSignature.buildbin-libdir && mkdir GenomicSuperSignature.buildbin-libdir && F:\biocbuild\bbs-3.17-bioc\R\bin\R.exe CMD INSTALL --build --library=GenomicSuperSignature.buildbin-libdir GenomicSuperSignature_1.7.0.tar.gz StartedAt: 2022-12-29 05:12:10 -0500 (Thu, 29 Dec 2022) EndedAt: 2022-12-29 05:12:48 -0500 (Thu, 29 Dec 2022) EllapsedTime: 38.2 seconds RetCode: 0 Status: OK PackageFile: GenomicSuperSignature_1.7.0.zip PackageFileSize: 6.635 MiB