Package: GenomicInteractions Version: 1.33.0 Command: rm -rf GenomicInteractions.buildbin-libdir && mkdir GenomicInteractions.buildbin-libdir && F:\biocbuild\bbs-3.17-bioc\R\bin\R.exe CMD INSTALL --build --library=GenomicInteractions.buildbin-libdir GenomicInteractions_1.33.0.tar.gz StartedAt: 2022-12-29 05:11:56 -0500 (Thu, 29 Dec 2022) EndedAt: 2022-12-29 05:13:36 -0500 (Thu, 29 Dec 2022) EllapsedTime: 99.8 seconds RetCode: 0 Status: OK PackageFile: GenomicInteractions_1.33.0.zip PackageFileSize: 3.764 MiB