Package: GeneOverlap Version: 1.35.0 Command: F:\biocbuild\bbs-3.17-bioc\R\bin\R.exe CMD check --no-multiarch --install=check:GeneOverlap.install-out.txt --library=F:\biocbuild\bbs-3.17-bioc\R\library --no-vignettes --timings GeneOverlap_1.35.0.tar.gz StartedAt: 2022-12-29 00:01:57 -0500 (Thu, 29 Dec 2022) EndedAt: 2022-12-29 00:02:31 -0500 (Thu, 29 Dec 2022) EllapsedTime: 33.8 seconds RetCode: 0 Status: OK CheckDir: GeneOverlap.Rcheck Warnings: 0