Package: GSgalgoR Version: 1.9.0 Command: chmod a+r GSgalgoR -R && F:\biocbuild\bbs-3.17-bioc\R\bin\R.exe CMD build --keep-empty-dirs --no-resave-data GSgalgoR StartedAt: 2022-12-28 18:30:27 -0500 (Wed, 28 Dec 2022) EndedAt: 2022-12-28 18:31:51 -0500 (Wed, 28 Dec 2022) EllapsedTime: 84.5 seconds RetCode: 0 Status: OK PackageFile: GSgalgoR_1.9.0.tar.gz PackageFileSize: 2.219 MiB