Package: GSgalgoR Version: 1.9.0 Command: rm -rf GSgalgoR.buildbin-libdir && mkdir GSgalgoR.buildbin-libdir && F:\biocbuild\bbs-3.17-bioc\R\bin\R.exe CMD INSTALL --build --library=GSgalgoR.buildbin-libdir GSgalgoR_1.9.0.tar.gz StartedAt: 2022-12-29 05:14:35 -0500 (Thu, 29 Dec 2022) EndedAt: 2022-12-29 05:14:48 -0500 (Thu, 29 Dec 2022) EllapsedTime: 13.4 seconds RetCode: 0 Status: OK PackageFile: GSgalgoR_1.9.0.zip PackageFileSize: 2.282 MiB