Package: GSAR Version: 1.33.0 Command: chmod a+r GSAR -R && F:\biocbuild\bbs-3.17-bioc\R\bin\R.exe CMD build --keep-empty-dirs --no-resave-data GSAR StartedAt: 2022-12-28 18:29:31 -0500 (Wed, 28 Dec 2022) EndedAt: 2022-12-28 18:31:48 -0500 (Wed, 28 Dec 2022) EllapsedTime: 136.7 seconds RetCode: 0 Status: OK PackageFile: GSAR_1.33.0.tar.gz PackageFileSize: 2.088 MiB