Package: GA4GHclient Version: 1.23.0 Command: F:\biocbuild\bbs-3.17-bioc\R\bin\R.exe CMD check --no-multiarch --install=check:GA4GHclient.install-out.txt --library=F:\biocbuild\bbs-3.17-bioc\R\library --no-vignettes --timings GA4GHclient_1.23.0.tar.gz StartedAt: 2022-12-28 23:55:57 -0500 (Wed, 28 Dec 2022) EndedAt: 2022-12-28 23:59:53 -0500 (Wed, 28 Dec 2022) EllapsedTime: 236.5 seconds RetCode: 0 Status: OK CheckDir: GA4GHclient.Rcheck Warnings: 0