Package: GA4GHclient Version: 1.23.0 Command: rm -rf GA4GHclient.buildbin-libdir && mkdir GA4GHclient.buildbin-libdir && F:\biocbuild\bbs-3.17-bioc\R\bin\R.exe CMD INSTALL --build --library=GA4GHclient.buildbin-libdir GA4GHclient_1.23.0.tar.gz StartedAt: 2022-12-29 05:10:15 -0500 (Thu, 29 Dec 2022) EndedAt: 2022-12-29 05:10:59 -0500 (Thu, 29 Dec 2022) EllapsedTime: 43.2 seconds RetCode: 0 Status: OK PackageFile: GA4GHclient_1.23.0.zip PackageFileSize: 742.9 KiB