Package: FindIT2 Version: 1.5.0 Command: chmod a+r FindIT2 -R && F:\biocbuild\bbs-3.17-bioc\R\bin\R.exe CMD build --keep-empty-dirs --no-resave-data FindIT2 StartedAt: 2022-12-28 18:07:57 -0500 (Wed, 28 Dec 2022) EndedAt: 2022-12-28 18:09:19 -0500 (Wed, 28 Dec 2022) EllapsedTime: 82.3 seconds RetCode: 0 Status: OK PackageFile: FindIT2_1.5.0.tar.gz PackageFileSize: 1.414 MiB