Package: FISHalyseR Version: 1.33.0 Command: F:\biocbuild\bbs-3.17-bioc\R\bin\R.exe CMD check --no-multiarch --install=check:FISHalyseR.install-out.txt --library=F:\biocbuild\bbs-3.17-bioc\R\library --no-vignettes --timings FISHalyseR_1.33.0.tar.gz StartedAt: 2022-12-28 23:48:15 -0500 (Wed, 28 Dec 2022) EndedAt: 2022-12-28 23:48:59 -0500 (Wed, 28 Dec 2022) EllapsedTime: 43.6 seconds RetCode: 0 Status: WARNINGS CheckDir: FISHalyseR.Rcheck Warnings: 2