Package: FISHalyseR Version: 1.33.0 Command: chmod a+r FISHalyseR -R && F:\biocbuild\bbs-3.17-bioc\R\bin\R.exe CMD build --keep-empty-dirs --no-resave-data FISHalyseR StartedAt: 2022-12-28 18:08:02 -0500 (Wed, 28 Dec 2022) EndedAt: 2022-12-28 18:08:23 -0500 (Wed, 28 Dec 2022) EllapsedTime: 21.1 seconds RetCode: 0 Status: OK PackageFile: FISHalyseR_1.33.0.tar.gz PackageFileSize: 782.6 KiB