Package: FISHalyseR Version: 1.33.0 Command: rm -rf FISHalyseR.buildbin-libdir && mkdir FISHalyseR.buildbin-libdir && F:\biocbuild\bbs-3.17-bioc\R\bin\R.exe CMD INSTALL --build --library=FISHalyseR.buildbin-libdir FISHalyseR_1.33.0.tar.gz StartedAt: 2022-12-29 05:09:01 -0500 (Thu, 29 Dec 2022) EndedAt: 2022-12-29 05:09:09 -0500 (Thu, 29 Dec 2022) EllapsedTime: 7.2 seconds RetCode: 0 Status: OK PackageFile: FISHalyseR_1.33.0.zip PackageFileSize: 833.8 KiB