Package: FELLA Version: 1.19.0 Command: chmod a+r FELLA -R && F:\biocbuild\bbs-3.17-bioc\R\bin\R.exe CMD build --keep-empty-dirs --no-resave-data FELLA StartedAt: 2022-12-28 18:07:14 -0500 (Wed, 28 Dec 2022) EndedAt: 2022-12-28 18:15:06 -0500 (Wed, 28 Dec 2022) EllapsedTime: 472.8 seconds RetCode: 0 Status: OK PackageFile: FELLA_1.19.0.tar.gz PackageFileSize: 3.44 MiB