Package: EBSeq Version: 1.39.0 Command: rm -rf EBSeq.buildbin-libdir && mkdir EBSeq.buildbin-libdir && F:\biocbuild\bbs-3.17-bioc\R\bin\R.exe CMD INSTALL --build --library=EBSeq.buildbin-libdir EBSeq_1.39.0.tar.gz StartedAt: 2022-12-29 05:06:07 -0500 (Thu, 29 Dec 2022) EndedAt: 2022-12-29 05:06:16 -0500 (Thu, 29 Dec 2022) EllapsedTime: 9.8 seconds RetCode: 0 Status: OK PackageFile: EBSeq_1.39.0.zip PackageFileSize: 1.318 MiB