Package: EBSEA Version: 1.27.0 Command: F:\biocbuild\bbs-3.17-bioc\R\bin\R.exe CMD INSTALL EBSEA StartedAt: 2022-12-28 15:49:14 -0500 (Wed, 28 Dec 2022) EndedAt: 2022-12-28 15:49:39 -0500 (Wed, 28 Dec 2022) EllapsedTime: 24.9 seconds RetCode: 0 Status: OK