Package: DegNorm Version: 1.9.0 Command: rm -rf DegNorm.buildbin-libdir && mkdir DegNorm.buildbin-libdir && F:\biocbuild\bbs-3.17-bioc\R\bin\R.exe CMD INSTALL --build --library=DegNorm.buildbin-libdir DegNorm_1.9.0.tar.gz StartedAt: 2022-12-29 05:03:01 -0500 (Thu, 29 Dec 2022) EndedAt: 2022-12-29 05:03:58 -0500 (Thu, 29 Dec 2022) EllapsedTime: 56.3 seconds RetCode: 0 Status: OK PackageFile: DegNorm_1.9.0.zip PackageFileSize: 3.431 MiB