Package: DNAcopy Version: 1.73.0 Command: chmod a+r DNAcopy -R && F:\biocbuild\bbs-3.17-bioc\R\bin\R.exe CMD build --keep-empty-dirs --no-resave-data DNAcopy StartedAt: 2022-12-28 17:42:05 -0500 (Wed, 28 Dec 2022) EndedAt: 2022-12-28 17:42:23 -0500 (Wed, 28 Dec 2022) EllapsedTime: 18.4 seconds RetCode: 0 Status: OK PackageFile: DNAcopy_1.73.0.tar.gz PackageFileSize: 295.5 KiB