Package: Cogito Version: 1.5.0 Command: chmod a+r Cogito -R && F:\biocbuild\bbs-3.17-bioc\R\bin\R.exe CMD build --keep-empty-dirs --no-resave-data Cogito StartedAt: 2022-12-28 17:20:31 -0500 (Wed, 28 Dec 2022) EndedAt: 2022-12-28 17:21:31 -0500 (Wed, 28 Dec 2022) EllapsedTime: 59.5 seconds RetCode: 0 Status: OK PackageFile: Cogito_1.5.0.tar.gz PackageFileSize: 869 KiB