Package: Cogito Version: 1.5.0 Command: rm -rf Cogito.buildbin-libdir && mkdir Cogito.buildbin-libdir && F:\biocbuild\bbs-3.17-bioc\R\bin\R.exe CMD INSTALL --build --library=Cogito.buildbin-libdir Cogito_1.5.0.tar.gz StartedAt: 2022-12-29 04:59:37 -0500 (Thu, 29 Dec 2022) EndedAt: 2022-12-29 05:00:11 -0500 (Thu, 29 Dec 2022) EllapsedTime: 33.3 seconds RetCode: 0 Status: OK PackageFile: Cogito_1.5.0.zip PackageFileSize: 1.249 MiB