Package: CellBench Version: 1.15.0 Command: chmod a+r CellBench -R && F:\biocbuild\bbs-3.17-bioc\R\bin\R.exe CMD build --keep-empty-dirs --no-resave-data CellBench StartedAt: 2022-12-28 17:07:44 -0500 (Wed, 28 Dec 2022) EndedAt: 2022-12-28 17:08:44 -0500 (Wed, 28 Dec 2022) EllapsedTime: 59.8 seconds RetCode: 0 Status: OK PackageFile: CellBench_1.15.0.tar.gz PackageFileSize: 3.665 MiB