Package: CRISPRseek Version: 1.39.0 Command: rm -rf CRISPRseek.buildbin-libdir && mkdir CRISPRseek.buildbin-libdir && F:\biocbuild\bbs-3.17-bioc\R\bin\R.exe CMD INSTALL --build --library=CRISPRseek.buildbin-libdir CRISPRseek_1.39.0.tar.gz StartedAt: 2022-12-29 05:01:15 -0500 (Thu, 29 Dec 2022) EndedAt: 2022-12-29 05:01:57 -0500 (Thu, 29 Dec 2022) EllapsedTime: 41.6 seconds RetCode: 0 Status: OK PackageFile: CRISPRseek_1.39.0.zip PackageFileSize: 11.03 MiB