Package: COTAN Version: 1.3.0 Command: F:\biocbuild\bbs-3.17-bioc\R\bin\R.exe CMD INSTALL COTAN StartedAt: 2022-12-28 15:51:01 -0500 (Wed, 28 Dec 2022) EndedAt: 2022-12-28 15:51:26 -0500 (Wed, 28 Dec 2022) EllapsedTime: 25.0 seconds RetCode: 0 Status: OK