| Back to Build/check report for BioC 3.17 |
|
This page was generated on 2023-01-02 09:00:24 -0500 (Mon, 02 Jan 2023).
| Hostname | OS | Arch (*) | R version | Installed pkgs |
|---|---|---|---|---|
| palomino5 | Windows Server 2022 Datacenter | x64 | R Under development (unstable) (2022-12-25 r83502 ucrt) -- "Unsuffered Consequences" | 4165 |
| Click on any hostname to see more info about the system (e.g. compilers) (*) as reported by 'uname -p', except on Windows and Mac OS X | ||||
|
To the developers/maintainers of the CODEX package: Make sure to use the following settings in order to reproduce any error or warning you see on this page. |
| Package 372/2158 | Hostname | OS / Arch | INSTALL | BUILD | CHECK | BUILD BIN | ||||||||
| CODEX 1.31.0 (landing page) Yuchao Jiang
| palomino5 | Windows Server 2022 Datacenter / x64 | OK | OK | OK | OK | ||||||||
| Package: CODEX |
| Version: 1.31.0 |
| Command: F:\biocbuild\bbs-3.17-bioc\R\bin\R.exe CMD check --no-multiarch --install=check:CODEX.install-out.txt --library=F:\biocbuild\bbs-3.17-bioc\R\library --no-vignettes --timings CODEX_1.31.0.tar.gz |
| StartedAt: 2022-12-28 22:40:33 -0500 (Wed, 28 Dec 2022) |
| EndedAt: 2022-12-28 22:44:08 -0500 (Wed, 28 Dec 2022) |
| EllapsedTime: 214.4 seconds |
| RetCode: 0 |
| Status: OK |
| CheckDir: CODEX.Rcheck |
| Warnings: 0 |
##############################################################################
##############################################################################
###
### Running command:
###
### F:\biocbuild\bbs-3.17-bioc\R\bin\R.exe CMD check --no-multiarch --install=check:CODEX.install-out.txt --library=F:\biocbuild\bbs-3.17-bioc\R\library --no-vignettes --timings CODEX_1.31.0.tar.gz
###
##############################################################################
##############################################################################
* using log directory 'F:/biocbuild/bbs-3.17-bioc-rtools43/meat/CODEX.Rcheck'
* using R Under development (unstable) (2022-12-25 r83502 ucrt)
* using platform: x86_64-w64-mingw32 (64-bit)
* R was compiled by
gcc.exe (GCC) 10.4.0
GNU Fortran (GCC) 10.4.0
* running under: Windows Server x64 (build 20348)
* using session charset: UTF-8
* using option '--no-vignettes'
* checking for file 'CODEX/DESCRIPTION' ... OK
* checking extension type ... Package
* this is package 'CODEX' version '1.31.0'
* checking package namespace information ... OK
* checking package dependencies ... NOTE
Depends: includes the non-default packages:
'Rsamtools', 'GenomeInfoDb', 'BSgenome.Hsapiens.UCSC.hg19',
'IRanges', 'Biostrings', 'S4Vectors'
Adding so many packages to the search path is excessive and importing
selectively is preferable.
* checking if this is a source package ... OK
* checking if there is a namespace ... OK
* checking for hidden files and directories ... OK
* checking for portable file names ... OK
* checking whether package 'CODEX' can be installed ... OK
* checking installed package size ... OK
* checking package directory ... OK
* checking 'build' directory ... OK
* checking DESCRIPTION meta-information ... OK
* checking top-level files ... OK
* checking for left-over files ... OK
* checking index information ... OK
* checking package subdirectories ... OK
* checking R files for non-ASCII characters ... OK
* checking R files for syntax errors ... OK
* checking whether the package can be loaded ... OK
* checking whether the package can be loaded with stated dependencies ... OK
* checking whether the package can be unloaded cleanly ... OK
* checking whether the namespace can be loaded with stated dependencies ... OK
* checking whether the namespace can be unloaded cleanly ... OK
* checking dependencies in R code ... OK
* checking S3 generic/method consistency ... OK
* checking replacement functions ... OK
* checking foreign function calls ... OK
* checking R code for possible problems ... NOTE
choiceofK: no visible global function definition for 'pdf'
choiceofK: no visible global function definition for 'par'
choiceofK: no visible global function definition for 'dev.off'
getbambed: no visible global function definition for 'read.table'
normalize : <anonymous>: no visible global function definition for
'smooth.spline'
normalize : <anonymous>: no visible global function definition for
'predict'
normalize: no visible global function definition for 'glm'
normalize: no visible binding for global variable 'poisson'
normalize: no visible global function definition for 'lm'
normalize2 : <anonymous>: no visible global function definition for
'smooth.spline'
normalize2 : <anonymous>: no visible global function definition for
'predict'
normalize2: no visible global function definition for 'glm'
normalize2: no visible binding for global variable 'poisson'
normalize2: no visible global function definition for 'lm'
Undefined global functions or variables:
dev.off glm lm par pdf poisson predict read.table smooth.spline
Consider adding
importFrom("grDevices", "dev.off", "pdf")
importFrom("graphics", "par")
importFrom("stats", "glm", "lm", "poisson", "predict", "smooth.spline")
importFrom("utils", "read.table")
to your NAMESPACE file.
* checking Rd files ... OK
* checking Rd metadata ... OK
* checking Rd cross-references ... OK
* checking for missing documentation entries ... OK
* checking for code/documentation mismatches ... OK
* checking Rd \usage sections ... OK
* checking Rd contents ... OK
* checking for unstated dependencies in examples ... OK
* checking contents of 'data' directory ... OK
* checking data for non-ASCII characters ... OK
* checking LazyData ... OK
* checking data for ASCII and uncompressed saves ... OK
* checking sizes of PDF files under 'inst/doc' ... OK
* checking files in 'vignettes' ... OK
* checking examples ... OK
Examples with CPU (user + system) or elapsed time > 5s
user system elapsed
normalize 16.32 0.21 16.55
normalize2 11.88 0.13 12.00
getcoverage 6.95 0.45 12.06
* checking for unstated dependencies in vignettes ... OK
* checking package vignettes in 'inst/doc' ... OK
* checking running R code from vignettes ... SKIPPED
* checking re-building of vignette outputs ... SKIPPED
* checking PDF version of manual ... OK
* DONE
Status: 2 NOTEs
See
'F:/biocbuild/bbs-3.17-bioc-rtools43/meat/CODEX.Rcheck/00check.log'
for details.
CODEX.Rcheck/00install.out
############################################################################## ############################################################################## ### ### Running command: ### ### F:\biocbuild\bbs-3.17-bioc\R\bin\R.exe CMD INSTALL CODEX ### ############################################################################## ############################################################################## * installing to library 'F:/biocbuild/bbs-3.17-bioc/R/library' * installing *source* package 'CODEX' ... ** using staged installation ** R ** data *** moving datasets to lazyload DB ** byte-compile and prepare package for lazy loading ** help *** installing help indices ** building package indices ** installing vignettes ** testing if installed package can be loaded from temporary location ** testing if installed package can be loaded from final location ** testing if installed package keeps a record of temporary installation path * DONE (CODEX)
CODEX.Rcheck/CODEX-Ex.timings
| name | user | system | elapsed | |
| bambedObjDemo | 0 | 0 | 0 | |
| choiceofK | 0.06 | 0.00 | 0.07 | |
| coverageObjDemo | 0 | 0 | 0 | |
| gcDemo | 0 | 0 | 0 | |
| getbambed | 0.00 | 0.00 | 0.03 | |
| getcoverage | 6.95 | 0.45 | 12.06 | |
| getgc | 2.42 | 0.01 | 2.44 | |
| getmapp | 0.02 | 0.04 | 0.05 | |
| mappDemo | 0 | 0 | 0 | |
| mapp_ref | 0 | 0 | 0 | |
| mappability | 0.02 | 0.00 | 0.01 | |
| normObjDemo | 0 | 0 | 0 | |
| normalize | 16.32 | 0.21 | 16.55 | |
| normalize2 | 11.88 | 0.13 | 12.00 | |
| qc | 0.01 | 0.00 | 0.01 | |
| qcObjDemo | 0 | 0 | 0 | |
| segment | 0.13 | 0.00 | 0.13 | |