Package: CNEr Version: 1.35.0 Command: chmod a+r CNEr -R && F:\biocbuild\bbs-3.17-bioc\R\bin\R.exe CMD build --keep-empty-dirs --no-resave-data CNEr StartedAt: 2022-12-28 17:18:41 -0500 (Wed, 28 Dec 2022) EndedAt: 2022-12-28 17:20:28 -0500 (Wed, 28 Dec 2022) EllapsedTime: 106.2 seconds RetCode: 0 Status: OK PackageFile: CNEr_1.35.0.tar.gz PackageFileSize: 9.283 MiB