Package: CNEr Version: 1.35.0 Command: rm -rf CNEr.buildbin-libdir && mkdir CNEr.buildbin-libdir && F:\biocbuild\bbs-3.17-bioc\R\bin\R.exe CMD INSTALL --build --library=CNEr.buildbin-libdir CNEr_1.35.0.tar.gz StartedAt: 2022-12-29 04:58:56 -0500 (Thu, 29 Dec 2022) EndedAt: 2022-12-29 05:00:02 -0500 (Thu, 29 Dec 2022) EllapsedTime: 66.2 seconds RetCode: 0 Status: OK PackageFile: CNEr_1.35.0.zip PackageFileSize: 10.08 MiB