Package: BiocPkgTools Version: 1.17.1 Command: chmod a+r BiocPkgTools -R && F:\biocbuild\bbs-3.17-bioc\R\bin\R.exe CMD build --keep-empty-dirs --no-resave-data BiocPkgTools StartedAt: 2022-12-28 16:53:04 -0500 (Wed, 28 Dec 2022) EndedAt: 2022-12-28 16:56:28 -0500 (Wed, 28 Dec 2022) EllapsedTime: 204.4 seconds RetCode: 0 Status: OK PackageFile: BiocPkgTools_1.17.1.tar.gz PackageFileSize: 1.394 MiB