Package: BioTIP Version: 1.13.0 Command: chmod a+r BioTIP -R && F:\biocbuild\bbs-3.17-bioc\R\bin\R.exe CMD build --keep-empty-dirs --no-resave-data BioTIP StartedAt: 2022-12-28 16:56:50 -0500 (Wed, 28 Dec 2022) EndedAt: 2022-12-28 16:59:16 -0500 (Wed, 28 Dec 2022) EllapsedTime: 145.7 seconds RetCode: 0 Status: OK PackageFile: BioTIP_1.13.0.tar.gz PackageFileSize: 8.092 MiB