Package: BiRewire Version: 3.31.0 Command: F:\biocbuild\bbs-3.17-bioc\R\bin\R.exe CMD check --no-multiarch --install=check:BiRewire.install-out.txt --library=F:\biocbuild\bbs-3.17-bioc\R\library --no-vignettes --timings BiRewire_3.31.0.tar.gz StartedAt: 2022-12-28 22:03:22 -0500 (Wed, 28 Dec 2022) EndedAt: 2022-12-28 22:05:48 -0500 (Wed, 28 Dec 2022) EllapsedTime: 145.9 seconds RetCode: 0 Status: WARNINGS CheckDir: BiRewire.Rcheck Warnings: 1