Package: AllelicImbalance Version: 1.37.0 Command: rm -rf AllelicImbalance.buildbin-libdir && mkdir AllelicImbalance.buildbin-libdir && F:\biocbuild\bbs-3.17-bioc\R\bin\R.exe CMD INSTALL --build --library=AllelicImbalance.buildbin-libdir AllelicImbalance_1.37.0.tar.gz StartedAt: 2022-12-29 04:49:02 -0500 (Thu, 29 Dec 2022) EndedAt: 2022-12-29 04:50:27 -0500 (Thu, 29 Dec 2022) EllapsedTime: 85.4 seconds RetCode: 0 Status: OK PackageFile: AllelicImbalance_1.37.0.zip PackageFileSize: 1.23 MiB