git_url: https://git.bioconductor.org/packages/ABSSeq git_branch: master git_last_commit: 9a53426 git_last_commit_date: 2022-11-01 11:09:27 -0500 (Tue, 01 Nov 2022) Package: ABSSeq Version: 1.53.0 Maintainer: Wentao Yang MaintainerEmail: wyang at zoologie.uni-kiel.de