Package: supersigs Version: 1.8.0 Command: /Library/Frameworks/R.framework/Resources/bin/R CMD INSTALL supersigs StartedAt: 2023-10-15 18:58:05 -0400 (Sun, 15 Oct 2023) EndedAt: 2023-10-15 18:59:04 -0400 (Sun, 15 Oct 2023) EllapsedTime: 59.1 seconds RetCode: 0 Status: OK