Package: supersigs Version: 1.8.0 Command: rm -rf supersigs.buildbin-libdir && mkdir supersigs.buildbin-libdir && /Users/biocbuild/BBS/utils/build-universal.sh supersigs_1.8.0.tar.gz /Library/Frameworks/R.framework/Resources/bin/R supersigs.buildbin-libdir StartedAt: 2023-10-19 17:39:53 -0400 (Thu, 19 Oct 2023) EndedAt: 2023-10-19 17:41:24 -0400 (Thu, 19 Oct 2023) EllapsedTime: 91.3 seconds RetCode: 0 Status: OK PackageFile: supersigs_1.8.0.tgz PackageFileSize: 5.432 MiB