Package: sparseMatrixStats Version: 1.12.2 Command: /Library/Frameworks/R.framework/Resources/bin/R CMD INSTALL sparseMatrixStats StartedAt: 2023-10-15 15:15:58 -0400 (Sun, 15 Oct 2023) EndedAt: 2023-10-15 15:16:46 -0400 (Sun, 15 Oct 2023) EllapsedTime: 47.3 seconds RetCode: 0 Status: OK