git_url: https://git.bioconductor.org/packages/rrvgo git_branch: RELEASE_3_17 git_last_commit: 3db56c8 git_last_commit_date: 2023-09-06 17:14:29 -0400 (Wed, 06 Sep 2023) Package: rrvgo Version: 1.12.2 Maintainer: Sergi Sayols MaintainerEmail: sergisayolspuig at gmail.com