Package: qsvaR Version: 1.4.0 Command: /Library/Frameworks/R.framework/Resources/bin/R CMD check --install=check:qsvaR.install-out.txt --library=/Library/Frameworks/R.framework/Resources/library --no-vignettes --timings qsvaR_1.4.0.tar.gz StartedAt: 2023-10-18 16:56:32 -0400 (Wed, 18 Oct 2023) EndedAt: 2023-10-18 17:03:11 -0400 (Wed, 18 Oct 2023) EllapsedTime: 398.8 seconds RetCode: 0 Status: OK CheckDir: qsvaR.Rcheck Warnings: 0