Package: qPLEXanalyzer Version: 1.18.0 Command: /Library/Frameworks/R.framework/Resources/bin/R CMD build --keep-empty-dirs --no-resave-data qPLEXanalyzer StartedAt: 2023-10-16 15:22:29 -0400 (Mon, 16 Oct 2023) EndedAt: 2023-10-16 15:23:57 -0400 (Mon, 16 Oct 2023) EllapsedTime: 88.4 seconds RetCode: 0 Status: OK PackageFile: qPLEXanalyzer_1.18.0.tar.gz PackageFileSize: 3.492 MiB