Package: nnNorm Version: 2.64.0 Command: rm -rf nnNorm.buildbin-libdir && mkdir nnNorm.buildbin-libdir && /Users/biocbuild/BBS/utils/build-universal.sh nnNorm_2.64.0.tar.gz /Library/Frameworks/R.framework/Resources/bin/R nnNorm.buildbin-libdir StartedAt: 2023-10-19 15:29:22 -0400 (Thu, 19 Oct 2023) EndedAt: 2023-10-19 15:29:31 -0400 (Thu, 19 Oct 2023) EllapsedTime: 8.8 seconds RetCode: 0 Status: OK PackageFile: nnNorm_2.64.0.tgz PackageFileSize: 195.2 KiB