Package: idiogram Version: 1.76.0 Command: /Library/Frameworks/R.framework/Resources/bin/R CMD build --keep-empty-dirs --no-resave-data idiogram StartedAt: 2023-10-16 06:32:41 -0400 (Mon, 16 Oct 2023) EndedAt: 2023-10-16 06:33:39 -0400 (Mon, 16 Oct 2023) EllapsedTime: 57.7 seconds RetCode: 0 Status: OK PackageFile: idiogram_1.76.0.tar.gz PackageFileSize: 1.795 MiB