Package: hca Version: 1.8.1 Command: /Library/Frameworks/R.framework/Resources/bin/R CMD check --install=check:hca.install-out.txt --library=/Library/Frameworks/R.framework/Resources/library --no-vignettes --timings hca_1.8.1.tar.gz StartedAt: 2023-10-18 00:16:53 -0400 (Wed, 18 Oct 2023) EndedAt: 2023-10-18 00:20:49 -0400 (Wed, 18 Oct 2023) EllapsedTime: 236.0 seconds RetCode: 0 Status: OK CheckDir: hca.Rcheck Warnings: 0