Package: hca Version: 1.8.1 Command: /Library/Frameworks/R.framework/Resources/bin/R CMD build --keep-empty-dirs --no-resave-data hca StartedAt: 2023-10-16 05:47:21 -0400 (Mon, 16 Oct 2023) EndedAt: 2023-10-16 05:50:47 -0400 (Mon, 16 Oct 2023) EllapsedTime: 206.0 seconds RetCode: 0 Status: OK PackageFile: hca_1.8.1.tar.gz PackageFileSize: 487.7 KiB