Package: farms Version: 1.52.0 Command: rm -rf farms.buildbin-libdir && mkdir farms.buildbin-libdir && /Users/biocbuild/BBS/utils/build-universal.sh farms_1.52.0.tar.gz /Library/Frameworks/R.framework/Resources/bin/R farms.buildbin-libdir StartedAt: 2023-10-19 13:17:23 -0400 (Thu, 19 Oct 2023) EndedAt: 2023-10-19 13:17:35 -0400 (Thu, 19 Oct 2023) EllapsedTime: 11.2 seconds RetCode: 0 Status: OK PackageFile: farms_1.52.0.tgz PackageFileSize: 318.3 KiB