Package: factR Version: 1.2.0 Command: rm -rf factR.buildbin-libdir && mkdir factR.buildbin-libdir && /Users/biocbuild/BBS/utils/build-universal.sh factR_1.2.0.tar.gz /Library/Frameworks/R.framework/Resources/bin/R factR.buildbin-libdir StartedAt: 2023-10-12 16:35:11 -0400 (Thu, 12 Oct 2023) EndedAt: 2023-10-12 16:35:43 -0400 (Thu, 12 Oct 2023) EllapsedTime: 32.1 seconds RetCode: 0 Status: OK PackageFile: factR_1.2.0.tgz PackageFileSize: 1.793 MiB