Package: SpacePAC Version: 1.38.0 Command: /Library/Frameworks/R.framework/Resources/bin/R CMD INSTALL SpacePAC StartedAt: 2023-10-15 18:36:30 -0400 (Sun, 15 Oct 2023) EndedAt: 2023-10-15 18:36:55 -0400 (Sun, 15 Oct 2023) EllapsedTime: 25.0 seconds RetCode: 0 Status: OK