Package: STATegRa Version: 1.36.0 Command: /Library/Frameworks/R.framework/Resources/bin/R CMD build --keep-empty-dirs --no-resave-data STATegRa StartedAt: 2023-10-16 22:18:05 -0400 (Mon, 16 Oct 2023) EndedAt: 2023-10-16 22:22:18 -0400 (Mon, 16 Oct 2023) EllapsedTime: 253.3 seconds RetCode: 0 Status: OK PackageFile: STATegRa_1.36.0.tar.gz PackageFileSize: 4.882 MiB